BEGIN:VCALENDAR
VERSION:2.0
PRODID:-//eventon.com NONSGML v1.0//EN
CALSCALE:GREGORIAN
METHOD:PUBLISH
BEGIN:VEVENT
UID:69ea42da8c0b9
DTSTAMP:20260423T160338Z
DTSTART:20240815T150000Z
DTEND:20240815T160000Z
LOCATION:https://us02web.zoom.us/meeting/register/tZUtf-muqTIqHdf8kyz9W6uGIu1wVqfhBuwo
SUMMARY:Caregiver Connections August 15
DESCRIPTION:Caregiver Connections is a free\,  ongoing virtual support grou
 p where people can share their personal experiences\,  ways of coping and h
 elpful resources. A safe space to connect with others Emotional &amp; pract
 ical support Masters level social workers to lead&nbsp;the group We Meet Ea
 ch Month Via Zoom1st Thursday from 10:00-11:00am (CST)&nbsp;3rd[..]\nhttps:
 //texasoncologyfoundation.org/events/caregiver-connections-august-15/var/ev
 ent_access
URL:https://texasoncologyfoundation.org/events/caregiver-connections-august-15/var/event_access
END:VEVENT
END:VCALENDAR