BEGIN:VCALENDAR
VERSION:2.0
PRODID:-//eventon.com NONSGML v1.0//EN
CALSCALE:GREGORIAN
METHOD:PUBLISH
BEGIN:VEVENT
UID:69ea42eae9bba
DTSTAMP:20260423T160354Z
DTSTART:20240919T150000Z
DTEND:20240919T160000Z
LOCATION:https://us02web.zoom.us/meeting/register/tZ0qcemvqj0tGtYKQrmI-BobsH62AJeZ2EBm
SUMMARY:Caregiver Connections September 19
DESCRIPTION:Caregiver Connections is a free\,  ongoing virtual support grou
 p where people can share their personal experiences\,  ways of coping and h
 elpful resources. A safe space to connect with others Emotional &amp; pract
 ical support Masters level social workers to lead&nbsp;the group We Meet Ea
 ch Month Via Zoom1st Thursday from 10:00-11:00am (CST)&nbsp;3rd[..]\nhttps:
 //texasoncologyfoundation.org/events/caregiver-connections-september-19/var
 /event_access
URL:https://texasoncologyfoundation.org/events/caregiver-connections-september-19/var/event_access
END:VEVENT
END:VCALENDAR