BEGIN:VCALENDAR
VERSION:2.0
PRODID:-//eventon.com NONSGML v1.0//EN
CALSCALE:GREGORIAN
METHOD:PUBLISH
BEGIN:VEVENT
UID:69ea42eb9876f
DTSTAMP:20260423T160355Z
DTSTART:20241109T010000Z
DTEND:20241109T040000Z
LOCATION:Aggie Park Event Center 6205 West Ave
SUMMARY:Uncork to Support - San Antonio
DESCRIPTION:Visit the Event Website for more details. WHEN Online Auction: 
 will be open Friday\,  November 1\,  2024 (at 12:00pm) &#8211; Friday\,  No
 vember 8\,  2024 (at 9:30pm) Wine Tasting Experience: Friday\,  November 8\
 ,  2024 (7:00-10:00pm) WHERE Wine Tasting Experience: Aggie Park Event Cent
 er (6205 West Ave) GET INVOLVED Become an Event[..]\nhttps://texasoncologyf
 oundation.org/events/uncork-to-support-san-antonio/
URL:https://texasoncologyfoundation.org/events/uncork-to-support-san-antonio/
END:VEVENT
END:VCALENDAR