BEGIN:VCALENDAR
VERSION:2.0
PRODID:-//eventon.com NONSGML v1.0//EN
CALSCALE:GREGORIAN
METHOD:PUBLISH
BEGIN:VEVENT
UID:69ea4305d14de
DTSTAMP:20260423T160421Z
DTSTART:20240816T150000Z
DTEND:20240816T160000Z
LOCATION:https://app.etapestry.com/onlineforms/TexasOncologyFoundationInc/caregiversurvival.html
SUMMARY:Caregiver Survival August 16- September 20
DESCRIPTION:*This Group is for Cancer Caregivers Only* Caregiver Survival i
 s a free\,  6 week virtual education &amp; support group. This group provid
 es people caregiving for a loved one with cancer a safe space to connect. T
 o This will be a curriculum based support group with a full hour of support
 [..]\nhttps://texasoncologyfoundation.org/events/caregiver-survival-august-
 16-september-20/var/event_access
URL:https://texasoncologyfoundation.org/events/caregiver-survival-august-16-september-20/var/event_access
END:VEVENT
END:VCALENDAR