BEGIN:VCALENDAR
VERSION:2.0
PRODID:-//eventon.com NONSGML v1.0//EN
CALSCALE:GREGORIAN
METHOD:PUBLISH
BEGIN:VEVENT
UID:69ea43057869b
DTSTAMP:20260423T160421Z
DTSTART:20240802T160000Z
DTEND:20240802T183000Z
LOCATION:Texas Oncology-Austin Central 6204 Balcones Dr.
SUMMARY:Mentors and Meetups
DESCRIPTION:Hybrid Austin TX\,  Legacy Planning: Scrapbooking Join cancer s
 urvivors and learn how to incorporate legacy work into card making. Kelsey 
 Espinosa and Melissa Strubbe\,  LMSW\,  will&nbsp;help survivors tell their
  story through a finished cards each week. August 2 &amp; 16\,  202411:30 a
 m &#8211; 1:00 pm CTTexas Oncology &#8211; Central Austin[..]\nhttps://texa
 soncologyfoundation.org/events/mentors-and-meetups/var/event_access
URL:https://texasoncologyfoundation.org/events/mentors-and-meetups/var/event_access
END:VEVENT
END:VCALENDAR