BEGIN:VCALENDAR
VERSION:2.0
PRODID:-//eventon.com NONSGML v1.0//EN
CALSCALE:GREGORIAN
METHOD:PUBLISH
BEGIN:VEVENT
UID:69ea42a284f71
DTSTAMP:20260423T160242Z
DTSTART:20240823T140000Z
DTEND:20240824T045900Z
LOCATION:
SUMMARY:Cancer Community Connections 2024 - Longview
DESCRIPTION:WHEN Health Fair: Friday\,  August 23\,  2024 9:00 am &#8211; 1
 :00pm Free screenings\,  Health Education\,  Mammograms\,  and Blood Pressu
 re Checks WHERE Health Faire: Maude Cobb Convention Center 100 Grand Blvd. 
 Longview\,  TX&nbsp; 75604 GET INVOLVED Register as a participant: Attendee
 s can connect with community resources and participate in- Free screenings[
 ..]\nhttps://texasoncologyfoundation.org/events/cancer-community-connection
 s-2024-longview/
URL:https://texasoncologyfoundation.org/events/cancer-community-connections-2024-longview/
END:VEVENT
END:VCALENDAR