BEGIN:VCALENDAR
VERSION:2.0
PRODID:-//eventon.com NONSGML v1.0//EN
CALSCALE:GREGORIAN
METHOD:PUBLISH
BEGIN:VEVENT
UID:69ea42eae5eb1
DTSTAMP:20260423T160354Z
DTSTART:20241001T230000Z
DTEND:20241001T234500Z
LOCATION:https://us02web.zoom.us/meeting/register/tZEvc-mgrDkqEtLpSE0D8dQRkAeWGPskQL7u
SUMMARY:Digital Dives: 12 Tuesdays
DESCRIPTION:Join us for a Digital Dive through the holiday season. For the 
 12 Tuesdays of the holidays\,  take an online excursion into topics to both
  enhance your holiday experience and nurture your resilience during a bustl
 ing time of year. Through a combination of live sessions\,  pre-recorded we
 binars to view on[..]\nhttps://texasoncologyfoundation.org/events/digital-d
 ives-12-tuesdays/var/event_access
URL:https://texasoncologyfoundation.org/events/digital-dives-12-tuesdays/var/event_access
END:VEVENT
END:VCALENDAR