BEGIN:VCALENDAR
VERSION:2.0
PRODID:-//eventon.com NONSGML v1.0//EN
CALSCALE:GREGORIAN
METHOD:PUBLISH
BEGIN:VEVENT
UID:69ea42bce16ce
DTSTAMP:20260423T160308Z
DTSTART:20250505T163000Z
DTEND:20250506T000000Z
LOCATION:Lantana Golf Club 800 Golf Club Dr. Lantana\,  TX 76226
SUMMARY:Dallas Golf Classic 2025
DESCRIPTION:SCHEDULE 11:30 a.m. – Registration &amp; Lunch12:45 p.m. – 
 Lineup &amp; Ball Drop1:00 p.m. – Shotgun Start5:00 p.m. – Post-Tournam
 ent Dinner WHERE Lantana Golf Club 800 Golf Club Dr\,  Lantana\,  TX 76226 
 GET INVOLVED Event Information Become an Event Sponsor Attend the Golf Expe
 rience • $300 &#8211; Event Ticket (entry for[..]\nhttps://texasoncology
 foundation.org/events/dallas-golf-classic-2025/
URL:https://texasoncologyfoundation.org/events/dallas-golf-classic-2025/
END:VEVENT
END:VCALENDAR