BEGIN:VCALENDAR
VERSION:2.0
PRODID:-//eventon.com NONSGML v1.0//EN
CALSCALE:GREGORIAN
METHOD:PUBLISH
BEGIN:VEVENT
UID:69ea5b29c4fbc
DTSTAMP:20260423T174721Z
DTSTART:20260504T163000Z
DTEND:20260505T000000Z
LOCATION:Lantana Golf Club 800 Golf Club Dr. Lantana\,  TX 76226
SUMMARY:Annual Golf Classic 2026
DESCRIPTION:SCHEDULE 11:30 a.m. – Registration &amp; Champions Lunch1:45 
 p.m. – Honorary Starters Ceremony &amp; Ball Drop2:00 p.m. – Shotgun St
 art5:00 p.m. – Green Jacket Presentation Ceremony &amp; Post-Tournament D
 inner WHERE Lantana Golf Club 800 Golf Club Dr\,  Lantana\,  TX 76226 GET I
 NVOLVED Event Information Become an Event Sponsor •&nbsp;Sponsorships inc
 lude[..]\nhttps://texasoncologyfoundation.org/events/annual-golf-classic-20
 26/
URL:https://texasoncologyfoundation.org/events/annual-golf-classic-2026/
END:VEVENT
END:VCALENDAR