BEGIN:VCALENDAR
VERSION:2.0
PRODID:-//eventon.com NONSGML v1.0//EN
CALSCALE:GREGORIAN
METHOD:PUBLISH
BEGIN:VEVENT
UID:69ea33dec0d5b
DTSTAMP:20260423T145942Z
DTSTART:20260425T230000Z
DTEND:20260426T020000Z
LOCATION:The Coffee House at West End 802 Shepherd Drive
SUMMARY:Uncork to Support - Houston
DESCRIPTION:Visit the Event Website for more details. WHEN Saturday\,  Apri
 l 25\,  2026 (6:00-9:00pm) WHERE The Coffee House at West End (802 Shepherd
  Drive) GET INVOLVED Become an Event Sponsor Attend the Wine Tasting Experi
 ence •&nbsp;$150 &#8211; Event Ticket (entry for 1) •&nbsp;$275 &#8211;
  2 Event Tickets (entry for 2) •&nbsp;Sponsorships[..]\nhttps://texasonco
 logyfoundation.org/events/uncork-to-support-houston-3/
URL:https://texasoncologyfoundation.org/events/uncork-to-support-houston-3/
END:VEVENT
END:VCALENDAR