BEGIN:VCALENDAR
VERSION:2.0
PRODID:-//eventon.com NONSGML v1.0//EN
CALSCALE:GREGORIAN
METHOD:PUBLISH
BEGIN:VEVENT
UID:69ea3026ba9dc
DTSTAMP:20260423T144350Z
DTSTART:20260601T230000Z
DTEND:20260602T000000Z
LOCATION:https://us02web.zoom.us/meeting/register/tZEvc-mgrDkqEtLpSE0D8dQRkAeWGPskQL7u
SUMMARY:Resilient Readers Book Club
DESCRIPTION:The Resilient Readers book club is a space to connect and enjoy
  reading in a new way – no pressure\,  no perfection\,  just community.
  Whether you’re in treatment\,  navigating survivorship\,  supporting a
  loved one\,  or caring for patients\,  you’ll find a circle that under
 stands the complexity of the cancer experience while embracing the full spe
 ctrum of[..]\nhttps://texasoncologyfoundation.org/events/resilient-readers-
 book-club/var/ri-1.l-L1
URL:https://texasoncologyfoundation.org/events/resilient-readers-book-club/var/ri-1.l-L1
END:VEVENT
END:VCALENDAR